BEGIN:VCALENDAR
VERSION:2.0
PRODID:-//Pfarrei Galgenen//NONSGML kigkonsult.se iCalcreator 2.16.12//
METHOD:PUBLISH
X-MS-OLK-FORCEINSPECTOROPEN:TRUE
BEGIN:VEVENT
UID:20260420T124823CEST-9157V20hhz@Pfarrei Galgenen
DTSTAMP:20260420T104823Z
DESCRIPTION:Kein Gottesdienst um 9.30 Uhr!\n\n14.00 Uhr Festgottesdienst mi
 t anschliessendem Gräberbesuch\, unter der musikalischen Mitwirkung des Ki
 rchenchors.\nNach dem Gräberbesuch wird im Martins-Träff  eine „Kafistubä“
  geführt.\n
DTSTART:20221101T140000
DTEND:20221101T150000
ORGANIZER:MAILTO:Pfarrei Galgenen <sekretariat@kg-galgenen.ch>
SUMMARY:Allerheiligen Hochfest
END:VEVENT
END:VCALENDAR
