BEGIN:VCALENDAR
VERSION:2.0
PRODID:-//Pfarrei Galgenen//NONSGML kigkonsult.se iCalcreator 2.16.12//
METHOD:PUBLISH
X-MS-OLK-FORCEINSPECTOROPEN:TRUE
BEGIN:VEVENT
UID:20260420T122805CEST-3922FZDgle@Pfarrei Galgenen
DTSTAMP:20260420T102805Z
DESCRIPTION:Festgottesdienst unter musikalischer Mitwirkung des Musikverein
  Galgenen.\n\nAnschliessend an den Gottesdienst führen wir im Martins-Träf
 f ein „Chiläkafi“.\n
DTSTART:20221113T093000
DTEND:20221113T103000
ORGANIZER:MAILTO:Pfarrei Galgenen <sekretariat@kg-galgenen.ch>
SUMMARY:Patrozinium St. Martin 
END:VEVENT
END:VCALENDAR
