BEGIN:VCALENDAR
VERSION:2.0
PRODID:-//Pfarrei Galgenen//NONSGML kigkonsult.se iCalcreator 2.16.12//
METHOD:PUBLISH
X-MS-OLK-FORCEINSPECTOROPEN:TRUE
BEGIN:VEVENT
UID:20260420T124822CEST-3881Ik7U1L@Pfarrei Galgenen
DTSTAMP:20260420T104822Z
DESCRIPTION:Eucharistiefeier im Martins-Träff\, unter Mitwirkung\nder FMG\,
  Frauen- und Müttergemeinschaft Galgenen\n\nIm Anschluss  Kaffee und Gipfe
 li.\n
DTSTART:20221118T093000
DTEND:20221118T103000
ORGANIZER:MAILTO:Pfarrei Galgenen <sekretariat@kg-galgenen.ch>
SUMMARY:Elisabethen-Messe mit der FMG
END:VEVENT
END:VCALENDAR
