BEGIN:VCALENDAR
VERSION:2.0
PRODID:-//Pfarrei Galgenen//NONSGML kigkonsult.se iCalcreator 2.16.12//
METHOD:PUBLISH
X-MS-OLK-FORCEINSPECTOROPEN:TRUE
BEGIN:VEVENT
UID:20260420T124645CEST-680063bPv9@Pfarrei Galgenen
DTSTAMP:20260420T104645Z
DESCRIPTION:Familiengottesdienst\nIn diesem Gottesdienst werden die Firmlin
 ge von 2023 vorgestellt.\n\nAnschliessend führen die Firmanden/-innen im M
 artins-Träff ein „Chiläkafi“.\n
DTSTART:20221120T093000
DTEND:20221120T103000
ORGANIZER:MAILTO:Pfarrei Galgenen <sekretariat@kg-galgenen.ch>
SUMMARY:Vorstellungs-Gottesdienst der Firmanden
END:VEVENT
END:VCALENDAR
