BEGIN:VCALENDAR
VERSION:2.0
PRODID:-//Pfarrei Galgenen//NONSGML kigkonsult.se iCalcreator 2.16.12//
METHOD:PUBLISH
X-MS-OLK-FORCEINSPECTOROPEN:TRUE
BEGIN:VEVENT
UID:20260420T124740CEST-6402Ok1FkD@Pfarrei Galgenen
DTSTAMP:20260420T104740Z
DESCRIPTION:In der Pfarrkirche St. Martin findet die alljährliche Generalve
 rsammlung der Kirchgemeinde Galgenen statt.\nZu Beginn stimmt der Kirchenc
 hor auf die Versammlung ein. Alle Bürger sind herzlich eingeladen. \n
DTSTART:20221121T200000
DTEND:20221121T220000
ORGANIZER:MAILTO:Pfarrei Galgenen <sekretariat@kg-galgenen.ch>
SUMMARY:Kirchgemeinde Versammlung 
END:VEVENT
END:VCALENDAR
