BEGIN:VCALENDAR
VERSION:2.0
PRODID:-//Pfarrei Galgenen//NONSGML kigkonsult.se iCalcreator 2.16.12//
METHOD:PUBLISH
X-MS-OLK-FORCEINSPECTOROPEN:TRUE
BEGIN:VEVENT
UID:20260420T124554CEST-8367E8nUvz@Pfarrei Galgenen
DTSTAMP:20260420T104554Z
DESCRIPTION:Dieser Gottesdienst wird musikalisch vom Seniorenchor 60+ Ausse
 rschwyz begleitet.\n
DTSTART:20221127T093000
DTEND:20221127T103000
ORGANIZER:MAILTO:Pfarrei Galgenen <sekretariat@kg-galgenen.ch>
SUMMARY:Gottesdienst mit Seniorenchor 60+ Ausserschwyz
END:VEVENT
END:VCALENDAR
