BEGIN:VCALENDAR
VERSION:2.0
PRODID:-//Pfarrei Galgenen//NONSGML kigkonsult.se iCalcreator 2.16.12//
METHOD:PUBLISH
X-MS-OLK-FORCEINSPECTOROPEN:TRUE
BEGIN:VEVENT
UID:20260420T124834CEST-3693zwOnaK@Pfarrei Galgenen
DTSTAMP:20260420T104834Z
DESCRIPTION:Der Musikverein Galgenen lädt zum Adventkonzert in der Pfarrkir
 che St. Martin ein.\nGesanglich werden die Musikanten vom Kirchenchor Galg
 enen begleitet.\nIm Anschluss wird vor der Kirche Glühmost verteilt.\n(Sie
 he sep. Flyer unter Download)\n
DTSTART:20221127T170000
DTEND:20221127T190000
ORGANIZER:MAILTO:Pfarrei Galgenen <sekretariat@kg-galgenen.ch>
SUMMARY:Adventskonzert des Musikverein Galgenen
END:VEVENT
END:VCALENDAR
