BEGIN:VCALENDAR
VERSION:2.0
PRODID:-//Pfarrei Galgenen//NONSGML kigkonsult.se iCalcreator 2.16.12//
METHOD:PUBLISH
X-MS-OLK-FORCEINSPECTOROPEN:TRUE
BEGIN:VEVENT
UID:20260420T125855CEST-1953pL05sd@Pfarrei Galgenen
DTSTAMP:20260420T105855Z
DESCRIPTION:Rorate-Gottesdienst mit den 3. und 4. Klassen.\nAnschliessend w
 ird im Martins-Träff ein kleines Frühstück serviert.\nAnmeldung erforderli
 ch!\n\nKein Gottesdienst um 9.30 Uhr!\n
DTSTART:20221130T063000
DTEND:20221130T070000
ORGANIZER:MAILTO:Pfarrei Galgenen <sekretariat@kg-galgenen.ch>
SUMMARY:Rorate-Gottesdienst 
END:VEVENT
END:VCALENDAR
