BEGIN:VCALENDAR
VERSION:2.0
PRODID:-//Pfarrei Galgenen//NONSGML kigkonsult.se iCalcreator 2.16.12//
METHOD:PUBLISH
X-MS-OLK-FORCEINSPECTOROPEN:TRUE
BEGIN:VEVENT
UID:20260420T164014CEST-930687bUHu@Pfarrei Galgenen
DTSTAMP:20260420T144014Z
DESCRIPTION:Familiengottesdienst mit dem Besuch vom Samichlaus und Schmutzl
 i.
DTSTART:20221204T093000
DTEND:20221204T103000
ORGANIZER:MAILTO:Pfarrei Galgenen <sekretariat@kg-galgenen.ch>
SUMMARY:Familiengottesdienst 
END:VEVENT
END:VCALENDAR
