BEGIN:VCALENDAR
VERSION:2.0
PRODID:-//Pfarrei Galgenen//NONSGML kigkonsult.se iCalcreator 2.16.12//
METHOD:PUBLISH
X-MS-OLK-FORCEINSPECTOROPEN:TRUE
BEGIN:VEVENT
UID:20260420T125855CEST-3413zssDFd@Pfarrei Galgenen
DTSTAMP:20260420T105855Z
DESCRIPTION:17.35 Uhr Besammlung vor der Pfarrkirche\;\n17.45 Uhr Busfahrt 
 nach Lachen\;\nFussmarsch zurück zur Pfarrkirche mit dem Friedenslicht\;\n
 ca. 19.00 Uhr Kerzensegnung\;\nAnschliessend: Punsch und Kuchen\n
DTSTART:20221213T173500
DTEND:20221213T193000
ORGANIZER:MAILTO:Pfarrei Galgenen <sekretariat@kg-galgenen.ch>
SUMMARY:Friedenslicht nach Galgenen holen. 
END:VEVENT
END:VCALENDAR
