BEGIN:VCALENDAR
VERSION:2.0
PRODID:-//Pfarrei Galgenen//NONSGML kigkonsult.se iCalcreator 2.16.12//
METHOD:PUBLISH
X-MS-OLK-FORCEINSPECTOROPEN:TRUE
BEGIN:VEVENT
UID:20260420T124555CEST-1495TWvVL4@Pfarrei Galgenen
DTSTAMP:20260420T104555Z
DESCRIPTION:Rorate-Gottesdienst mit den 5. und 6. Klassen.\nAnschliessend w
 ird im Martins-Träff ein kleines Frühstück serviert.\nAnmeldung erforderli
 ch!\n\nKein Gottesdienst um 9.30 Uhr!\n
DTSTART:20221214T063000
DTEND:20221214T070000
ORGANIZER:MAILTO:Pfarrei Galgenen <sekretariat@kg-galgenen.ch>
SUMMARY:Rorate-Gottesdienst 
END:VEVENT
END:VCALENDAR
