BEGIN:VCALENDAR
VERSION:2.0
PRODID:-//Pfarrei Galgenen//NONSGML kigkonsult.se iCalcreator 2.16.12//
METHOD:PUBLISH
X-MS-OLK-FORCEINSPECTOROPEN:TRUE
BEGIN:VEVENT
UID:20260420T122635CEST-4850NvDl91@Pfarrei Galgenen
DTSTAMP:20260420T102635Z
DESCRIPTION:Kein Gottesdienst um 9.30 Uhr!\n\n16.00 Uhr Krippenspiel von Sc
 hülerinnen und Schülern\nder 4. und 5. Klassen\, mit Kommunionfeier.\n
DTSTART:20221224T160000
DTEND:20221224T170000
ORGANIZER:MAILTO:Pfarrei Galgenen <sekretariat@kg-galgenen.ch>
SUMMARY:Heilig Abend\, Krippenspiel 
END:VEVENT
END:VCALENDAR
