BEGIN:VCALENDAR
VERSION:2.0
PRODID:-//Pfarrei Galgenen//NONSGML kigkonsult.se iCalcreator 2.16.12//
METHOD:PUBLISH
X-MS-OLK-FORCEINSPECTOROPEN:TRUE
BEGIN:VEVENT
UID:20260420T111341CEST-6870I4VgaZ@Pfarrei Galgenen
DTSTAMP:20260420T091341Z
DESCRIPTION:Kein Gottesdienst um 9.30 Uhr!\nWeihnachtsgottesdienst für jung
  und alt!\nMusikalisch begleitet von Anita Schwyter - Trompete und Andreas
  Diethelm - Orgel.
DTSTART:20221224T180000
DTEND:20221224T190000
ORGANIZER:MAILTO:Pfarrei Galgenen <sekretariat@kg-galgenen.ch>
SUMMARY:Heilig Abend\, Familien-Weihnachtsgottesdienst
END:VEVENT
END:VCALENDAR
