BEGIN:VCALENDAR
VERSION:2.0
PRODID:-//Pfarrei Galgenen//NONSGML kigkonsult.se iCalcreator 2.16.12//
METHOD:PUBLISH
X-MS-OLK-FORCEINSPECTOROPEN:TRUE
BEGIN:VEVENT
UID:20260420T105604CEST-48008Ez1kf@Pfarrei Galgenen
DTSTAMP:20260420T085604Z
DESCRIPTION:Gottesdienst mit Diakon Remo Weibel\,\nmusikalisch begleitet vo
 n Urban Huber\, Klarinette und  Andreas Diethelm\, Orgel\n
DTSTART:20221226T093000
DTEND:20221226T103000
ORGANIZER:MAILTO:Pfarrei Galgenen <sekretariat@kg-galgenen.ch>
SUMMARY:Stephanstag
END:VEVENT
END:VCALENDAR
