BEGIN:VCALENDAR
VERSION:2.0
PRODID:-//Pfarrei Galgenen//NONSGML kigkonsult.se iCalcreator 2.16.12//
METHOD:PUBLISH
X-MS-OLK-FORCEINSPECTOROPEN:TRUE
BEGIN:VEVENT
UID:20260420T145357CEST-3203zgHWa5@Pfarrei Galgenen
DTSTAMP:20260420T125357Z
DESCRIPTION:Eucharistiefeier mit Empfang des Blasiussegens.\n
DTSTART:20230203T093000
DTEND:20230203T100000
ORGANIZER:MAILTO:Pfarrei Galgenen <sekretariat@kg-galgenen.ch>
SUMMARY:Herz-Jesu-Freitag mit Blasiussegen
END:VEVENT
END:VCALENDAR
