BEGIN:VCALENDAR
VERSION:2.0
PRODID:-//Pfarrei Galgenen//NONSGML kigkonsult.se iCalcreator 2.16.12//
METHOD:PUBLISH
X-MS-OLK-FORCEINSPECTOROPEN:TRUE
BEGIN:VEVENT
UID:20260420T111340CEST-7572LDCc72@Pfarrei Galgenen
DTSTAMP:20260420T091340Z
DESCRIPTION:Gottesdienst der 5. Klassen\, mit Blasiussegen und Segnung der 
 Kerzen und des Agathabrotes.\n
DTSTART:20230205T093000
DTEND:20230205T103000
ORGANIZER:MAILTO:Pfarrei Galgenen <sekretariat@kg-galgenen.ch>
SUMMARY:Gottesdienst mit den 5. Klassen 
END:VEVENT
END:VCALENDAR
