BEGIN:VCALENDAR
VERSION:2.0
PRODID:-//Pfarrei Galgenen//NONSGML kigkonsult.se iCalcreator 2.16.12//
METHOD:PUBLISH
X-MS-OLK-FORCEINSPECTOROPEN:TRUE
BEGIN:VEVENT
UID:20260420T111238CEST-3051n5vJS1@Pfarrei Galgenen
DTSTAMP:20260420T091238Z
DESCRIPTION:Achtung: um 9.30 Uhr KEIN Gottesdienst!\nUm 19.30 Uhr in der Pf
 arrkirche Eucharistiefeier mit Segnung und Auflegung der Asche.\n
DTSTART:20230222T193000
DTEND:20230222T203000
ORGANIZER:MAILTO:Pfarrei Galgenen <sekretariat@kg-galgenen.ch>
SUMMARY:Aschermittwoch 
END:VEVENT
END:VCALENDAR
