BEGIN:VCALENDAR
VERSION:2.0
PRODID:-//Pfarrei Galgenen//NONSGML kigkonsult.se iCalcreator 2.16.12//
METHOD:PUBLISH
X-MS-OLK-FORCEINSPECTOROPEN:TRUE
BEGIN:VEVENT
UID:20260420T111041CEST-1730Krpthg@Pfarrei Galgenen
DTSTAMP:20260420T091041Z
DESCRIPTION:Die Eucharistiefeier wird musikalisch von den Kantoren umrahmt.
 \n
DTSTART:20230226T093000
DTEND:20230226T103000
ORGANIZER:MAILTO:Pfarrei Galgenen <sekretariat@kg-galgenen.ch>
SUMMARY:Gottesdienst mit Kantoren
END:VEVENT
END:VCALENDAR
