BEGIN:VCALENDAR
VERSION:2.0
PRODID:-//Pfarrei Galgenen//NONSGML kigkonsult.se iCalcreator 2.16.12//
METHOD:PUBLISH
X-MS-OLK-FORCEINSPECTOROPEN:TRUE
BEGIN:VEVENT
UID:20260420T111054CEST-6319i6hdZO@Pfarrei Galgenen
DTSTAMP:20260420T091054Z
DESCRIPTION:Eucharistiefeier mit P. Roman Zwick aus Nuolen.\nIn dieser Feie
 r wird die Krankensalbung erteilt.\n
DTSTART:20230305T093000
DTEND:20230305T103000
ORGANIZER:MAILTO:Pfarrei Galgenen <sekretariat@kg-galgenen.ch>
SUMMARY:Schweizer Krankensonntag 
END:VEVENT
END:VCALENDAR
