BEGIN:VCALENDAR
VERSION:2.0
PRODID:-//Pfarrei Galgenen//NONSGML kigkonsult.se iCalcreator 2.16.12//
METHOD:PUBLISH
X-MS-OLK-FORCEINSPECTOROPEN:TRUE
BEGIN:VEVENT
UID:20260420T110954CEST-1606T1HPrJ@Pfarrei Galgenen
DTSTAMP:20260420T090954Z
DESCRIPTION:Gottesdienst mit Katja und Felix Bruhin\, vom Kinderhilfswerk A
 SHIA\n\nIm Anschluss findet im Tischmacherhof der Suppentag statt. Dort we
 rden Katja und Felix Bruhin\nvon Ihren Projekten und Erlebnissen in Afrika
  berichten.\n(siehe auch sep. Flyer unter Download)\n \n
DTSTART:20230319T093000
DTEND:20230319T150000
ORGANIZER:MAILTO:Pfarrei Galgenen <sekretariat@kg-galgenen.ch>
SUMMARY:Suppentag
END:VEVENT
END:VCALENDAR
