BEGIN:VCALENDAR
VERSION:2.0
PRODID:-//Pfarrei Galgenen//NONSGML kigkonsult.se iCalcreator 2.16.12//
METHOD:PUBLISH
X-MS-OLK-FORCEINSPECTOROPEN:TRUE
BEGIN:VEVENT
UID:20260420T111041CEST-75752KkXcH@Pfarrei Galgenen
DTSTAMP:20260420T091041Z
DESCRIPTION:Eucharistiefeier\, mitgestaltet von der JuBla\, Treffpunkt vor 
 dem Martins-Träff\, Segnung der Palmzweige\,\nanschliessend Einzug in die 
 Pfarrkirche.\n
DTSTART:20230402T093000
DTEND:20230402T103000
ORGANIZER:MAILTO:Pfarrei Galgenen <sekretariat@kg-galgenen.ch>
SUMMARY:Palmsonntag 
END:VEVENT
END:VCALENDAR
