BEGIN:VCALENDAR
VERSION:2.0
PRODID:-//Pfarrei Galgenen//NONSGML kigkonsult.se iCalcreator 2.16.12//
METHOD:PUBLISH
X-MS-OLK-FORCEINSPECTOROPEN:TRUE
BEGIN:VEVENT
UID:20260420T111057CEST-0812w2wvuv@Pfarrei Galgenen
DTSTAMP:20260420T091057Z
DESCRIPTION:Abendmahlsfeier mitgestaltet von den diesjährigen Erstkommunika
 nten.\n
DTSTART:20230406T180000
DTEND:20230406T190000
ORGANIZER:MAILTO:Pfarrei Galgenen <sekretariat@kg-galgenen.ch>
SUMMARY:Gründonnerstag 
END:VEVENT
END:VCALENDAR
