BEGIN:VCALENDAR
VERSION:2.0
PRODID:-//Pfarrei Galgenen//NONSGML kigkonsult.se iCalcreator 2.16.12//
METHOD:PUBLISH
X-MS-OLK-FORCEINSPECTOROPEN:TRUE
BEGIN:VEVENT
UID:20260420T144823CEST-9450JfWVka@Pfarrei Galgenen
DTSTAMP:20260420T124823Z
DESCRIPTION:05.30 Uhr Auferstehungsfeier\nTreffpunkt: Osterfeuer vor der Fr
 iedhofskapelle\, Einzug in die Pfarrkirche.\nIm Anschluss „Eiertütschen“ i
 m Martins-Träff \n\n09.30 Uhr Festgottesdienst unter Mitwirkung unseres Ki
 rchenchors.\n
DTSTART:20230409T053000
DTEND:20230409T103000
ORGANIZER:MAILTO:Pfarrei Galgenen <sekretariat@kg-galgenen.ch>
SUMMARY:Auferstehungsfeier 
END:VEVENT
END:VCALENDAR
