BEGIN:VCALENDAR
VERSION:2.0
PRODID:-//Pfarrei Galgenen//NONSGML kigkonsult.se iCalcreator 2.16.12//
METHOD:PUBLISH
X-MS-OLK-FORCEINSPECTOROPEN:TRUE
BEGIN:VEVENT
UID:20260420T110917CEST-3553UP481k@Pfarrei Galgenen
DTSTAMP:20260420T090917Z
DESCRIPTION:Eucharistiefeier (ohne Predigt) in der Pfarrkirche.\n
DTSTART:20230410T093000
DTEND:20230410T103000
ORGANIZER:MAILTO:Pfarrei Galgenen <sekretariat@kg-galgenen.ch>
SUMMARY:Ostermontag 
END:VEVENT
END:VCALENDAR
