BEGIN:VCALENDAR
VERSION:2.0
PRODID:-//Pfarrei Galgenen//NONSGML kigkonsult.se iCalcreator 2.16.12//
METHOD:PUBLISH
X-MS-OLK-FORCEINSPECTOROPEN:TRUE
BEGIN:VEVENT
UID:20260420T111249CEST-5697Al3jVG@Pfarrei Galgenen
DTSTAMP:20260420T091249Z
DESCRIPTION:Achtung:\n\nAb Mittwoch 12. April finden wieder alle Gottesdien
 ste in der Pfarrkirche statt!\n
DTSTART:20230412T000000
DTEND:20230412T000000
ORGANIZER:MAILTO:Pfarrei Galgenen <sekretariat@kg-galgenen.ch>
SUMMARY:Alle Gottesdienste wieder in der Pfarrkirche!
END:VEVENT
END:VCALENDAR
