BEGIN:VCALENDAR
VERSION:2.0
PRODID:-//Pfarrei Galgenen//NONSGML kigkonsult.se iCalcreator 2.16.12//
METHOD:PUBLISH
X-MS-OLK-FORCEINSPECTOROPEN:TRUE
BEGIN:VEVENT
UID:20260420T111417CEST-0860pgwp1h@Pfarrei Galgenen
DTSTAMP:20260420T091417Z
DESCRIPTION:Die 3. Klassen feiern ihre Erstkommunion.\n\nIm Anschluss wird 
 ein Apero serviert.\n
DTSTART:20230416T093000
DTEND:20230416T110000
ORGANIZER:MAILTO:Pfarrei Galgenen <sekretariat@kg-galgenen.ch>
SUMMARY:Erstkommunion 
END:VEVENT
END:VCALENDAR
