BEGIN:VCALENDAR
VERSION:2.0
PRODID:-//Pfarrei Galgenen//NONSGML kigkonsult.se iCalcreator 2.16.12//
METHOD:PUBLISH
X-MS-OLK-FORCEINSPECTOROPEN:TRUE
BEGIN:VEVENT
UID:20260420T111057CEST-1649OHVe6b@Pfarrei Galgenen
DTSTAMP:20260420T091057Z
DESCRIPTION:Maiandacht in de Jostenkapelle\, musikalisch begleitet von Stef
 an Kessler am Akkordeon\n
DTSTART:20230504T193000
DTEND:20230504T200000
ORGANIZER:MAILTO:Pfarrei Galgenen <sekretariat@kg-galgenen.ch>
SUMMARY:Maiandacht in der Jostenkapelle
END:VEVENT
END:VCALENDAR
