BEGIN:VCALENDAR
VERSION:2.0
PRODID:-//Pfarrei Galgenen//NONSGML kigkonsult.se iCalcreator 2.16.12//
METHOD:PUBLISH
X-MS-OLK-FORCEINSPECTOROPEN:TRUE
BEGIN:VEVENT
UID:20260420T111040CEST-5989b66U9s@Pfarrei Galgenen
DTSTAMP:20260420T091040Z
DESCRIPTION:Maiandacht in der Jostenkapelle\, musikalisch begleitet von Fab
 ienne Bisig an der Querflöte\n
DTSTART:20230511T193000
DTEND:20230511T200000
ORGANIZER:MAILTO:Pfarrei Galgenen <sekretariat@kg-galgenen.ch>
SUMMARY:Maiandacht in der Jostenkapelle
END:VEVENT
END:VCALENDAR
