BEGIN:VCALENDAR
VERSION:2.0
PRODID:-//Pfarrei Galgenen//NONSGML kigkonsult.se iCalcreator 2.16.12//
METHOD:PUBLISH
X-MS-OLK-FORCEINSPECTOROPEN:TRUE
BEGIN:VEVENT
UID:20260420T111039CEST-07882015oK@Pfarrei Galgenen
DTSTAMP:20260420T091039Z
DESCRIPTION:Maiandacht in der Immerhilfkapelle\, musikalisch begleitet von 
 Werni Kessler am Schwyzerörgeli.\n\nBei schlechter Witterung entfällt die 
 Andacht.\n
DTSTART:20230518T193000
DTEND:20230518T200000
ORGANIZER:MAILTO:Pfarrei Galgenen <sekretariat@kg-galgenen.ch>
SUMMARY:Maiandacht in der Maria Immerhilf Kapelle
END:VEVENT
END:VCALENDAR
