BEGIN:VCALENDAR
VERSION:2.0
PRODID:-//Pfarrei Galgenen//NONSGML kigkonsult.se iCalcreator 2.16.12//
METHOD:PUBLISH
X-MS-OLK-FORCEINSPECTOROPEN:TRUE
BEGIN:VEVENT
UID:20260420T111243CEST-7763ezAcAZ@Pfarrei Galgenen
DTSTAMP:20260420T091243Z
DESCRIPTION:Maiandacht in der Jostenkapelle\, mitgestaltet von der FMG Galg
 enen\,\nmusikalisch begleitet von Familie Suter.\n\nIm Anschluss serviert 
 die FMG einen Apero.\n
DTSTART:20230525T193000
DTEND:20230525T200000
ORGANIZER:MAILTO:Pfarrei Galgenen <sekretariat@kg-galgenen.ch>
SUMMARY:Maiandacht in der Jostenkapelle
END:VEVENT
END:VCALENDAR
