BEGIN:VCALENDAR
VERSION:2.0
PRODID:-//Pfarrei Galgenen//NONSGML kigkonsult.se iCalcreator 2.16.12//
METHOD:PUBLISH
X-MS-OLK-FORCEINSPECTOROPEN:TRUE
BEGIN:VEVENT
UID:20260420T111210CEST-2181NgKwSE@Pfarrei Galgenen
DTSTAMP:20260420T091210Z
DESCRIPTION:Festgottesdienst\, musikalisch begleitet von den Kantoren\n
DTSTART:20230528T093000
DTEND:20230528T103000
ORGANIZER:MAILTO:Pfarrei Galgenen <sekretariat@kg-galgenen.ch>
SUMMARY:Pfingstsonntag 
END:VEVENT
END:VCALENDAR
