BEGIN:VCALENDAR
VERSION:2.0
PRODID:-//Pfarrei Galgenen//NONSGML kigkonsult.se iCalcreator 2.16.12//
METHOD:PUBLISH
X-MS-OLK-FORCEINSPECTOROPEN:TRUE
BEGIN:VEVENT
UID:20260420T111208CEST-4882gzS49a@Pfarrei Galgenen
DTSTAMP:20260420T091208Z
DESCRIPTION:Gottesdienst ohne Predigt\n
DTSTART:20230529T093000
DTEND:20230529T100000
ORGANIZER:MAILTO:Pfarrei Galgenen <sekretariat@kg-galgenen.ch>
SUMMARY:Pfingstmontag 
END:VEVENT
END:VCALENDAR
