BEGIN:VCALENDAR
VERSION:2.0
PRODID:-//Pfarrei Galgenen//NONSGML kigkonsult.se iCalcreator 2.16.12//
METHOD:PUBLISH
X-MS-OLK-FORCEINSPECTOROPEN:TRUE
BEGIN:VEVENT
UID:20260420T105557CEST-6834Gm83u1@Pfarrei Galgenen
DTSTAMP:20260420T085557Z
DESCRIPTION:Festgottesdienst in der Pfarrkirche St. Martin\, mitgestaltet v
 on den diesjährigen Erstkommunikanten.
DTSTART:20230608T093000
DTEND:20230608T103000
ORGANIZER:MAILTO:Pfarrei Galgenen <sekretariat@kg-galgenen.ch>
SUMMARY:Fronleichnam 
END:VEVENT
END:VCALENDAR
