BEGIN:VCALENDAR
VERSION:2.0
PRODID:-//Pfarrei Galgenen//NONSGML kigkonsult.se iCalcreator 2.16.12//
METHOD:PUBLISH
X-MS-OLK-FORCEINSPECTOROPEN:TRUE
BEGIN:VEVENT
UID:20260420T111250CEST-6091caKVzu@Pfarrei Galgenen
DTSTAMP:20260420T091250Z
DESCRIPTION:Kein Gottesdienst um 9.30 Uhr!\n\n04.00 Uhr  Wandertüchtige tre
 ffen sich bei trockener Witterung in der Jostenkapelle zur Wanderung nach 
 Einsiedeln\,\nmit Frühstückshalt auf dem Etzel (bei unsicherer Witterung g
 ibt Adelbert Hüppin\, N: 079 902 90 37 ab 03.30 Uhr Auskunft).\n\n07.00 Uh
 r   Bei schlechter Wetterlage treffen wir uns direkt im Restaurant St. Mei
 nrad auf dem Etzel\, zum gemeinsamen Frühstück. Für\nKinder bis 14 Jahre i
 st das Frühstück kostenlos.\nDen restlichen Pilgerweg nach Einsiedeln lege
 n wir individuell zurück.\n\n10.00 Uhr  Als Pilgerschar halten wir mit Bru
 der Patrik in der Unterkirche (Kloster Einsiedeln) eine Eucharistiefeier.
 \n\nInformation:  Die Anmeldung für die Wallfahrt/Frühstück im St. Meinrad
  ist verbindlich\, da uns das Restaurant die angemeldeten\nFrühstücke verr
 echnet. Die Kosten für das Frühstück der Kinder bis und mit 15 Jahren über
 nimmt die Pfarrei Galgenen.\nAnmeldungen sind im Pfarramt mündlich\, telef
 onisch oder per Mail bis am 13. Juni 2023 möglich.\n 
DTSTART:20230618T040000
DTEND:20230618T110000
ORGANIZER:MAILTO:Pfarrei Galgenen <sekretariat@kg-galgenen.ch>
SUMMARY:Wallfahrt nach Einsiedeln 
END:VEVENT
END:VCALENDAR
