BEGIN:VCALENDAR
VERSION:2.0
PRODID:-//Pfarrei Galgenen//NONSGML kigkonsult.se iCalcreator 2.16.12//
METHOD:PUBLISH
X-MS-OLK-FORCEINSPECTOROPEN:TRUE
BEGIN:VEVENT
UID:20260420T111341CEST-6184AsKZEk@Pfarrei Galgenen
DTSTAMP:20260420T091341Z
DESCRIPTION:Firmung der 6. Klassen aus Galgenen\, mit Abt Christian Meyer\,
  OSB Engelberg\nDer Apero für alle Kirchenbesucher findet vor dem Festgott
 esdienst statt. Dieser wird\nmusikalisch vom Musikverein Galgenen umrahmt.
 \n 
DTSTART:20230624T170000
DTEND:20230624T180000
ORGANIZER:MAILTO:Pfarrei Galgenen <sekretariat@kg-galgenen.ch>
SUMMARY:Firmung 
END:VEVENT
END:VCALENDAR
