BEGIN:VCALENDAR
VERSION:2.0
PRODID:-//Pfarrei Galgenen//NONSGML kigkonsult.se iCalcreator 2.16.12//
METHOD:PUBLISH
X-MS-OLK-FORCEINSPECTOROPEN:TRUE
BEGIN:VEVENT
UID:20260420T111040CEST-8690x186RU@Pfarrei Galgenen
DTSTAMP:20260420T091040Z
DESCRIPTION:Berggottesdienst der Genossame Brunnen-Pfiffegg\, auf der Pfiff
 egg mit Bruder Patrik.\nDie Feier findet nur bei trockener Witterung statt
 !\n 
DTSTART:20230625T110000
DTEND:20230625T120000
ORGANIZER:MAILTO:Pfarrei Galgenen <sekretariat@kg-galgenen.ch>
SUMMARY:Berggottesdienst auf der Pfiffegg
END:VEVENT
END:VCALENDAR
