BEGIN:VCALENDAR
VERSION:2.0
PRODID:-//Pfarrei Galgenen//NONSGML kigkonsult.se iCalcreator 2.16.12//
METHOD:PUBLISH
X-MS-OLK-FORCEINSPECTOROPEN:TRUE
BEGIN:VEVENT
UID:20260420T111039CEST-6849zhJpuh@Pfarrei Galgenen
DTSTAMP:20260420T091039Z
DESCRIPTION:Ökumenischer Gottesdienst\, gestaltet vom reformierten Pfarrer 
 Ralf Zimmer und unserem Bruder Patrik Schäfli.\nEin musikalischer Leckerbi
 ssen wird sicher die gemeinsame musikalische Begleitung desref. Kirchencho
 r March\nund unserem Kirchenchor aus Galgenen sein.\n 
DTSTART:20230702T093000
DTEND:20230702T103000
ORGANIZER:MAILTO:Pfarrei Galgenen <sekretariat@kg-galgenen.ch>
SUMMARY:Ökumenischer Gottesdienst in Galgenen
END:VEVENT
END:VCALENDAR
