BEGIN:VCALENDAR
VERSION:2.0
PRODID:-//Pfarrei Galgenen//NONSGML kigkonsult.se iCalcreator 2.16.12//
METHOD:PUBLISH
X-MS-OLK-FORCEINSPECTOROPEN:TRUE
BEGIN:VEVENT
UID:20260420T105538CEST-6577OnkoDJ@Pfarrei Galgenen
DTSTAMP:20260420T085538Z
DESCRIPTION:Familiengottesdienst der KAB im Tannligarten mit dem Alphorntri
 o Stockberg-Echo.\nBei schlechtem Wetter: Gottesdienst um 9.30 Uhr in der 
 Pfarrkirche.\nDas Glockenzeichen um 8.00 Uhr bedeutet Durchführung im Tann
 ligarten.\nEbenfalls Auskunft gibt:\nToni Diethelm (N: 078 699 24 97). Er 
 nimmt auch Abholungswünsche entgegen.\n(Siehe auch Flyer unter Download)\n
  
DTSTART:20230723T103000
DTEND:20230723T113000
ORGANIZER:MAILTO:Pfarrei Galgenen <sekretariat@kg-galgenen.ch>
SUMMARY:Gottesdienst im Tannligarten 
END:VEVENT
END:VCALENDAR
