BEGIN:VCALENDAR
VERSION:2.0
PRODID:-//Pfarrei Galgenen//NONSGML kigkonsult.se iCalcreator 2.16.12//
METHOD:PUBLISH
X-MS-OLK-FORCEINSPECTOROPEN:TRUE
BEGIN:VEVENT
UID:20260420T110953CEST-64395uCjRf@Pfarrei Galgenen
DTSTAMP:20260420T090953Z
DESCRIPTION:KEIN Gottesdienst in der Pfarrkirche!\nFestgottesdienst bei der
  Maria Immerhilfkapelle\, findet bei jeder Witterung statt!\nMusikalisch w
 ird die Feier vom Alphorntrio Stockberg-Echo begleitet. Im Anschluss an di
 e Feier wird uns der Musikverein Galgenen noch ein Ständchen spielen.\nAns
 chliessend an den Gottesdienst kann im Festzelt gemütlich zusammengesessen
  werden\, musikalisch umrahmt von „Joschts Musig“.\nFür das leibliche Wohl
  mit Leckereien vom Grill und Pommes Frites ist die Festwirtschaft besorgt
 .\nParkplätze sind nur beschränkt vorhanden. Die Kapelle ist vom Dorf zu F
 uss in 30 Minuten erreichbar. \n 
DTSTART:20230813T103000
DTEND:20230813T113000
ORGANIZER:MAILTO:Pfarrei Galgenen <sekretariat@kg-galgenen.ch>
SUMMARY:Jubiläums-Gottesdienst der Maria Immerhilf Kapelle
END:VEVENT
END:VCALENDAR
