BEGIN:VCALENDAR
VERSION:2.0
PRODID:-//Pfarrei Galgenen//NONSGML kigkonsult.se iCalcreator 2.16.12//
METHOD:PUBLISH
X-MS-OLK-FORCEINSPECTOROPEN:TRUE
BEGIN:VEVENT
UID:20260420T105558CEST-14704eCaau@Pfarrei Galgenen
DTSTAMP:20260420T085558Z
DESCRIPTION:Berggottesdienst\, Beim Grabenegg-Kreuz\, Galgenen\nMusikalisch
  begleitet von der Familienkapelle Suter und dem Alphorntrio Stockbärg-Ech
 o.  \n\nBei schlechtem Wetter:\nGottesdienst im gleichen Rahmen um 09.30 U
 hr in der Pfarrkirche.\nDas Glockenzeichen um 08.00 Uhr bedeutet die Durch
 führung beim Kreuz.\nEbenfalls Auskunft gibt:\nAdelbert Hüppin (N: 079 902
  90 37)\, oder\nab 8.00 Uhr unter Tel. 1600 Ansage Kt. Schwyz - Rubrik Kir
 chen\n(siehe auch Flyer unter Download)\n\n 
DTSTART:20230820T103000
DTEND:20230820T113000
ORGANIZER:MAILTO:Pfarrei Galgenen <sekretariat@kg-galgenen.ch>
SUMMARY:Grabenegg Berggottesdienst 
END:VEVENT
END:VCALENDAR
