BEGIN:VCALENDAR
VERSION:2.0
PRODID:-//Pfarrei Galgenen//NONSGML kigkonsult.se iCalcreator 2.16.12//
METHOD:PUBLISH
X-MS-OLK-FORCEINSPECTOROPEN:TRUE
BEGIN:VEVENT
UID:20260420T111040CEST-3034r6IDHg@Pfarrei Galgenen
DTSTAMP:20260420T091040Z
DESCRIPTION:Der Gottesdienst wird von Bischof Barthélemy aus Kamerun\nund d
 em Kinderhilfswerk ASHIA mitgestaltet.\nIm Anschluss wird ein Apero servie
 rt.
DTSTART:20230730T093000
DTEND:20230730T103000
ORGANIZER:MAILTO:Pfarrei Galgenen <sekretariat@kg-galgenen.ch>
SUMMARY:Gottesdienst mit Bischof Barthélemy 
END:VEVENT
END:VCALENDAR
