BEGIN:VCALENDAR
VERSION:2.0
PRODID:-//Pfarrei Galgenen//NONSGML kigkonsult.se iCalcreator 2.16.12//
METHOD:PUBLISH
X-MS-OLK-FORCEINSPECTOROPEN:TRUE
BEGIN:VEVENT
UID:20260420T111238CEST-1937zWA0ve@Pfarrei Galgenen
DTSTAMP:20260420T091238Z
DESCRIPTION:Familiengottesdienst Segensfeier mit den 1. Klassen.\nDiesen Go
 ttesdienst wird Jolanda Schnorf gemeinsam mit den Erstklässlern mitgestalt
 en.\n 
DTSTART:20230903T093000
DTEND:20230903T103000
ORGANIZER:MAILTO:Pfarrei Galgenen <sekretariat@kg-galgenen.ch>
SUMMARY:Segensfeier mit den ersten Klassen von Galgenen
END:VEVENT
END:VCALENDAR
