BEGIN:VCALENDAR
VERSION:2.0
PRODID:-//Pfarrei Galgenen//NONSGML kigkonsult.se iCalcreator 2.16.12//
METHOD:PUBLISH
X-MS-OLK-FORCEINSPECTOROPEN:TRUE
BEGIN:VEVENT
UID:20260420T105604CEST-1673N8spE9@Pfarrei Galgenen
DTSTAMP:20260420T085604Z
DESCRIPTION:In diesem Gottesdienst werden unsere neuen Ministranten feierli
 ch in ihren Dienst aufgenommen.\nMusikalisch umrahmt von den Kantoren.\n 
DTSTART:20230917T093000
DTEND:20230917T103000
ORGANIZER:MAILTO:Pfarrei Galgenen <sekretariat@kg-galgenen.ch>
SUMMARY:Ministrantenaufnahme 
END:VEVENT
END:VCALENDAR
