BEGIN:VCALENDAR
VERSION:2.0
PRODID:-//Pfarrei Galgenen//NONSGML kigkonsult.se iCalcreator 2.16.12//
METHOD:PUBLISH
X-MS-OLK-FORCEINSPECTOROPEN:TRUE
BEGIN:VEVENT
UID:20260420T111206CEST-6337urDZnI@Pfarrei Galgenen
DTSTAMP:20260420T091206Z
DESCRIPTION:Unsere Ministranten führen am Herbstmärt einen Stand und freuen
  sich\nüber viele Besucher.
DTSTART:20231007T000000
DTEND:20231007T000000
ORGANIZER:MAILTO:Pfarrei Galgenen <sekretariat@kg-galgenen.ch>
SUMMARY:Herbstmärt Galgenen
END:VEVENT
END:VCALENDAR
