BEGIN:VCALENDAR
VERSION:2.0
PRODID:-//Pfarrei Galgenen//NONSGML kigkonsult.se iCalcreator 2.16.12//
METHOD:PUBLISH
X-MS-OLK-FORCEINSPECTOROPEN:TRUE
BEGIN:VEVENT
UID:20260420T111250CEST-8419EDT0tz@Pfarrei Galgenen
DTSTAMP:20260420T091250Z
DESCRIPTION:Kein Gottesdienst um 9.30 Uhr!\n\nUm 14.00 Uhr Festgottesdienst
  mit anschliessendem Gräberbesuch\,\nNach dem Gräberbesuch wird im Martins
 -Träff für alle eine „Kafistubä“ geführt.\nDer Erlös geht vollumfänglich a
 n unsere Pfarrkirche.\n 
DTSTART:20231008T140000
DTEND:20231008T150000
ORGANIZER:MAILTO:Pfarrei Galgenen <sekretariat@kg-galgenen.ch>
SUMMARY:Chilbisonntag - Gräberbesuch
END:VEVENT
END:VCALENDAR
