BEGIN:VCALENDAR
VERSION:2.0
PRODID:-//Pfarrei Galgenen//NONSGML kigkonsult.se iCalcreator 2.16.12//
METHOD:PUBLISH
X-MS-OLK-FORCEINSPECTOROPEN:TRUE
BEGIN:VEVENT
UID:20260420T105430CEST-421733NjlP@Pfarrei Galgenen
DTSTAMP:20260420T085430Z
DESCRIPTION:Familiengottesdienst unter der Mitwirkung der\nBauernvereinigun
 g Galgenen und verschiedenen volkstümlichen Beiträgen.\nIm Anschluss an de
 n Gottesdienst serviert die Bauernvereinigung einen feinen Apero.\n 
DTSTART:20231015T093000
DTEND:20231015T103000
ORGANIZER:MAILTO:Pfarrei Galgenen <sekretariat@kg-galgenen.ch>
SUMMARY:Erntedank-Gottesdienst
END:VEVENT
END:VCALENDAR
