BEGIN:VCALENDAR
VERSION:2.0
PRODID:-//Pfarrei Galgenen//NONSGML kigkonsult.se iCalcreator 2.16.12//
METHOD:PUBLISH
X-MS-OLK-FORCEINSPECTOROPEN:TRUE
BEGIN:VEVENT
UID:20260420T111042CEST-04220Uz4eS@Pfarrei Galgenen
DTSTAMP:20260420T091042Z
DESCRIPTION:Kein Gottesdienst um 9.30 Uhr!\nFestgottesdienst mit anschliess
 endem Gräberbesuch\, unter der musikalischen Mitwirkung des Kirchenchors\n
 Nach dem Gräberbesuch wird im Martins-Träff eine „Kafistubä“ geführt.\n 
DTSTART:20231101T140000
DTEND:20231101T150000
ORGANIZER:MAILTO:Pfarrei Galgenen <sekretariat@kg-galgenen.ch>
SUMMARY:Allerheiligen Hochfest
END:VEVENT
END:VCALENDAR
