BEGIN:VCALENDAR
VERSION:2.0
PRODID:-//Pfarrei Galgenen//NONSGML kigkonsult.se iCalcreator 2.16.12//
METHOD:PUBLISH
X-MS-OLK-FORCEINSPECTOROPEN:TRUE
BEGIN:VEVENT
UID:20260420T111238CEST-9603MwciTt@Pfarrei Galgenen
DTSTAMP:20260420T091238Z
DESCRIPTION:Festgottesdienst unter musikalischer Mitwirkung des Musikverein
 s Galgenen.\nAnschliessend an den Gottesdienst führen wir im Martins-Träff
  ein „Chiläkafi“.\n 
DTSTART:20231112T093000
DTEND:20231112T103000
ORGANIZER:MAILTO:Pfarrei Galgenen <sekretariat@kg-galgenen.ch>
SUMMARY:Patrozinium St. Martin 
END:VEVENT
END:VCALENDAR
