BEGIN:VCALENDAR
VERSION:2.0
PRODID:-//Pfarrei Galgenen//NONSGML kigkonsult.se iCalcreator 2.16.12//
METHOD:PUBLISH
X-MS-OLK-FORCEINSPECTOROPEN:TRUE
BEGIN:VEVENT
UID:20260420T111243CEST-0471Wd8oFc@Pfarrei Galgenen
DTSTAMP:20260420T091243Z
DESCRIPTION:Eucharistiefeier unter Mitwirkung der FMG\, Frauen- und Mütterg
 emeinschaft Galgenen.\nIm Anschluss treffen sich alle Gottesdienstbesucher
  im Martins-Träff zum einem gemütlichen Kafi.\n 
DTSTART:20231117T093000
DTEND:20231117T103000
ORGANIZER:MAILTO:Pfarrei Galgenen <sekretariat@kg-galgenen.ch>
SUMMARY:Elisabethen-Messe mit der FMG
END:VEVENT
END:VCALENDAR
