BEGIN:VCALENDAR
VERSION:2.0
PRODID:-//Pfarrei Galgenen//NONSGML kigkonsult.se iCalcreator 2.16.12//
METHOD:PUBLISH
X-MS-OLK-FORCEINSPECTOROPEN:TRUE
BEGIN:VEVENT
UID:20260420T110954CEST-4634mbc5SP@Pfarrei Galgenen
DTSTAMP:20260420T090954Z
DESCRIPTION:Familien-Gottesdienst\nIn diesem Gottesdienst werden die Erstko
 mmunikanten vom 2024 vorgestellt.\n 
DTSTART:20231119T093000
DTEND:20231119T103000
ORGANIZER:MAILTO:Pfarrei Galgenen <sekretariat@kg-galgenen.ch>
SUMMARY:Vorstellungs-Gottesdienst der Erstkommunikanten
END:VEVENT
END:VCALENDAR
